BEGIN:VCALENDAR
VERSION:2.0
PRODID:-//In Appalachia - ECPv6.15.20//NONSGML v1.0//EN
CALSCALE:GREGORIAN
METHOD:PUBLISH
X-WR-CALNAME:In Appalachia
X-ORIGINAL-URL:https://inappalachia.com
X-WR-CALDESC:Events for In Appalachia
REFRESH-INTERVAL;VALUE=DURATION:PT1H
X-Robots-Tag:noindex
X-PUBLISHED-TTL:PT1H
BEGIN:VTIMEZONE
TZID:UTC
BEGIN:STANDARD
TZOFFSETFROM:+0000
TZOFFSETTO:+0000
TZNAME:UTC
DTSTART:20230101T000000
END:STANDARD
END:VTIMEZONE
BEGIN:VEVENT
DTSTART;TZID=UTC:20241023T080000
DTEND;TZID=UTC:20250101T170000
DTSTAMP:20260425T122409
CREATED:20241023T122116Z
LAST-MODIFIED:20241023T122116Z
UID:16038-1729670400-1735750800@inappalachia.com
SUMMARY:Drive Sales & Engage More with Our Landing Page Services
DESCRIPTION:Hyper Speed Pages specializes in custom design and development of B2B landing pages that stimulate digital interactions and turn them into meaningful conversions. We are a team of seasoned experts that integrate cutting-edge design with strategic functionality\, ensuring your landing pages not only capture attention but also drive results. We understand the nuances of B2B engagement and tailor each project to align seamlessly with your brand identity and objectives. Generate leads\, boost sales\, or enhance brand visibility\, our solutions are engineered for success.
URL:https://inappalachia.com/event/drive-sales-engage-more-with-our-landing-page-services/
ATTACH;FMTTYPE=image/png:https://inappalachia.com/wp-content/uploads/2024/10/hyperspeedpages-logo-1-1.png
END:VEVENT
BEGIN:VEVENT
DTSTART;TZID=UTC:20241018T080000
DTEND;TZID=UTC:20241018T170000
DTSTAMP:20260425T122409
CREATED:20241018T170507Z
LAST-MODIFIED:20241018T170507Z
UID:16020-1729238400-1729270800@inappalachia.com
SUMMARY:Alpha Adore
DESCRIPTION:Alpha Adore is organizing its biggest event in the United States. For this event\, they have invited their team members that bring their store to the number one position in all over the United States. Also\, they allow their brand ambassador who helps them in manufacturing their m initial necklace outside the United States. If you are a fan of dainty jewelry then try the latest technology products from s with free home delivery.
URL:https://inappalachia.com/event/alpha-adore/
ORGANIZER;CN="Robert Frost":MAILTO:robertfrost350188@gmail.com
END:VEVENT
BEGIN:VEVENT
DTSTART;TZID=UTC:20241018T080000
DTEND;TZID=UTC:20241018T170000
DTSTAMP:20260425T122409
CREATED:20241018T112446Z
LAST-MODIFIED:20241018T112446Z
UID:16015-1729238400-1729270800@inappalachia.com
SUMMARY:Do My Assignment
DESCRIPTION:If students want to pay for someone to do your assignment is an excellent assignment help service with highly skilled and experienced assignment helpers. What sets them apart is that they charge much lower fees than other assignment help services because they want as many students as possible to benefit from their assistance. Their goal is to help students overcome any academic challenges they face\, allowing them to continue their studies without stress or burden.
URL:https://inappalachia.com/event/do-my-assignment/
ATTACH;FMTTYPE=image/png:https://inappalachia.com/wp-content/uploads/2024/10/do-my-assignments-logo.png
END:VEVENT
BEGIN:VEVENT
DTSTART;VALUE=DATE:20241015
DTEND;VALUE=DATE:20241016
DTSTAMP:20260425T122409
CREATED:20241015T105225Z
LAST-MODIFIED:20241015T105225Z
UID:16011-1728950400-1729036799@inappalachia.com
SUMMARY:Harmainziarah
DESCRIPTION:Travel with ease from Jeddah Airport with our reliable taxi service. Whether you’re heading to the city\, Makkah\, Madinah\, or other destinations\, we offer comfortable rides with professional drivers and modern vehicles. Book your Jeddah Airport taxi today for a smooth\, stress-free travel experience.
URL:https://inappalachia.com/event/harmainziarah/
ATTACH;FMTTYPE=image/png:https://inappalachia.com/wp-content/uploads/2024/10/Logo-HarmainZiarah-1.png
END:VEVENT
BEGIN:VEVENT
DTSTART;TZID=UTC:20241012T080000
DTEND;TZID=UTC:20241012T170000
DTSTAMP:20260425T122409
CREATED:20241012T062011Z
LAST-MODIFIED:20241012T062011Z
UID:16000-1728720000-1728752400@inappalachia.com
SUMMARY:LinkedIn profile Writing Services - CV writing NZ
DESCRIPTION:Did you know that about 80% of recruiters check candidates on LinkedIn? Imagine missing out on a great job because your profile isn’t impressive. Let us give you the best tips and techniques to capitalize your linkedIn profile to gain much needed interaction and the attention to your profile from potential recruiters and business owners. You may get LinkedIn profile writing services from experts but learning a few tips for your own skills might not be a bad idea so join us in this event and learn great tips.
URL:https://inappalachia.com/event/linkedin-profile-writing-services-cv-writing-nz/
LOCATION:Russell County Government Center\, 139 Highland Dr\, Lebanon\, VA\, 24266\, United States
ATTACH;FMTTYPE=image/png:https://inappalachia.com/wp-content/uploads/2024/10/CV-writing-NZ-1.png
END:VEVENT
BEGIN:VEVENT
DTSTART;TZID=UTC:20241010T080000
DTEND;TZID=UTC:20241031T170000
DTSTAMP:20260425T122409
CREATED:20241005T090113Z
LAST-MODIFIED:20241005T090113Z
UID:15972-1728547200-1730394000@inappalachia.com
SUMMARY:Report Writing Help
DESCRIPTION:This event is organized by Reportwritinghelp.com.\, the best assignment writing service in the UK for college and university students. The online platform provides Analytical report structure at an affordable price to assist students in getting better grades in classes through comprehensive and well-written assignments. Our PhD scholars and assignment experts are ready to help.
URL:https://inappalachia.com/event/report-writing-help/
ATTACH;FMTTYPE=image/jpeg:https://inappalachia.com/wp-content/uploads/2024/10/RWH-Logo.jpg
END:VEVENT
BEGIN:VEVENT
DTSTART;VALUE=DATE:20241009
DTEND;VALUE=DATE:20250101
DTSTAMP:20260425T122409
CREATED:20241008T115756Z
LAST-MODIFIED:20241008T115756Z
UID:15983-1728432000-1735689599@inappalachia.com
SUMMARY:Limited Time Offer – 5% Discount on All Tractors in Stock!
DESCRIPTION:Now is the best time to upgrade your farm equipment! AgroAsia Tractors UAE is giving a 5% discount on all tractors that are ready to go. We have top-quality Massey Ferguson models available now\, and you can save money while getting the reliable tractor you need. Don’t wait – this special offer is only for a limited time. Contact us today to get your discount before it’s gone! \nContact Us +971-5266-83394\nEmail Sales@AgroAsiaTractors.ae\nUAE Global Office Gate 1\, Warehouse G1-07 – Free Zone – ليوارة 1 – Ajman – United Arab Emirates\nhttps://g.co/kgs/E2M7Zkj
URL:https://inappalachia.com/event/limited-time-offer-5-discount-on-all-tractors-in-stock/
LOCATION:UAE Global Office Gate 1\, Warehouse G1-07 – Free Zone – ليوارة 1 – Ajman – United Arab Emirates\, UAE Global Office Gate 1\, Warehouse G1-07 - Free Zone - ليوارة 1 - Ajman - United Arab Emirates\, Ajman\, Ajman\, 923\, Pakistan
ATTACH;FMTTYPE=image/jpeg:https://inappalachia.com/wp-content/uploads/2024/10/Tractors-for-sale-in-UAE_agroasiatractors.com_-qhkaaa765w38ybm01t2c042jhc1dvzwx0pp3opj8pw.jpg
ORGANIZER;CN="AgroAsia Tractors UAE":MAILTO:Agroasiatractors17@gmail.com
END:VEVENT
BEGIN:VEVENT
DTSTART;TZID=UTC:20241007T080000
DTEND;TZID=UTC:20241007T170000
DTSTAMP:20260425T122409
CREATED:20241007T094503Z
LAST-MODIFIED:20241007T094503Z
UID:15977-1728288000-1728320400@inappalachia.com
SUMMARY:The Assignments Help
DESCRIPTION:Our expert team is dedicated to assisting with assignments\, essays\, and projects tailored to your needs. If you’re looking for mysql homework help\, our skilled professionals are here to guide you through complex concepts\, database management\, and coding challenges. We focus on delivering high-quality\, plagiarism-free work on time\, so you can meet your deadlines without stress.
URL:https://inappalachia.com/event/the-assignments-help/
ATTACH;FMTTYPE=image/png:https://inappalachia.com/wp-content/uploads/2024/10/logo-TAH-1.png
END:VEVENT
BEGIN:VEVENT
DTSTART;TZID=UTC:20240926T153000
DTEND;TZID=UTC:20240926T170000
DTSTAMP:20260425T122409
CREATED:20240924T123931Z
LAST-MODIFIED:20240924T123931Z
UID:15936-1727364600-1727370000@inappalachia.com
SUMMARY:Thesis writing seminar from concept to completion.
DESCRIPTION:Join our Thesis Writing Seminar: From Concept to Completion to gain expert insights into the thesis writing process. Whether you’re just starting or refining your final draft\, this seminar will cover everything from topic selection to research methodology and structuring. Conducted by professionals at Thesis Writing Pakistan\, we ensure you have the tools and techniques to complete your thesis with confidence. Don’t miss out on this essential academic event!
URL:https://inappalachia.com/event/thesis-writing-seminar-from-concept-to-completion/
END:VEVENT
BEGIN:VEVENT
DTSTART;TZID=UTC:20240926T080000
DTEND;TZID=UTC:20240926T170000
DTSTAMP:20260425T122409
CREATED:20240926T212126Z
LAST-MODIFIED:20240926T212126Z
UID:15942-1727337600-1727370000@inappalachia.com
SUMMARY:Transform Your Ideas with Ghostwriting Nerds
DESCRIPTION:Ghostwriting Nerds excels in providing exceptional ghostwriting services that turn your ideas into engaging narratives. Our skilled writers are adept at capturing your unique voice\, whether you’re a business leader\, aspiring author\, or industry expert. We handle every aspect of the writing process—from brainstorming concepts to final edits—ensuring your content connects with your audience. With a focus on quality and creativity\, Ghostwriting Nerds delivers captivating ebooks that highlight your expertise and vision. Allow us to help you create a polished manuscript that not only captivates readers but also elevates your brand’s presence in the marketplace.
URL:https://inappalachia.com/event/transform-your-ideas-with-ghostwriting-nerds/
ATTACH;FMTTYPE=image/png:https://inappalachia.com/wp-content/uploads/2024/09/400x-to-400x-1.png
END:VEVENT
BEGIN:VEVENT
DTSTART;TZID=UTC:20240923T080000
DTEND;TZID=UTC:20240923T170000
DTSTAMP:20260425T122409
CREATED:20240923T095654Z
LAST-MODIFIED:20240923T095928Z
UID:15930-1727078400-1727110800@inappalachia.com
SUMMARY:E-Commerce Growth Summit 2024
DESCRIPTION:Join us at the E-Commerce Growth Summit 2024\, a premier event designed for business leaders\, entrepreneurs\, and marketing professionals looking to thrive in the fast-paced world of e-commerce. This event will feature expert speakers\, hands-on workshops\, and networking opportunities to explore strategies for scaling your business on platforms like Amazon\, Shopify\, and more.\nKeynote sessions will cover essential topics such as amazon account management\, amazon ppc management services\, optimizing product listings\, and leveraging data analytics for enhanced business growth. Participants will gain valuable insights into e-commerce trends\, branding\, and advertising techniques from industry-leading experts.
URL:https://inappalachia.com/event/e-commerce-growth-summit-2024/
ATTACH;FMTTYPE=image/jpeg:https://inappalachia.com/wp-content/uploads/2024/09/Bizistech-Cover-Page.jpg
END:VEVENT
BEGIN:VEVENT
DTSTART;TZID=UTC:20240923T080000
DTEND;TZID=UTC:20240923T170000
DTSTAMP:20260425T122409
CREATED:20240923T041723Z
LAST-MODIFIED:20240923T042046Z
UID:15924-1727078400-1727110800@inappalachia.com
SUMMARY:Fire Safety Risk Assessment : Ensuring Compliance and Protection
DESCRIPTION:Join us for a comprehensive Fire Safety Risk Assessment\, designed to help businesses\, landlords\, and property managers understand the importance of fire safety and ensure compliance with legal requirements. This workshop will cover essential steps for conducting thorough fire risk assessments\, as well as related services like asbestos management services  and Legionella risk assessment. Learn how to safeguard lives\, protect property\, and maintain compliance with safety standards.
URL:https://inappalachia.com/event/fire-safety-risk-assessment-workshop-ensuring-compliance-and-protection/
ATTACH;FMTTYPE=image/jpeg:https://inappalachia.com/wp-content/uploads/2024/09/firesafety-cover-scaled.jpg
END:VEVENT
BEGIN:VEVENT
DTSTART;TZID=UTC:20240918T093000
DTEND;TZID=UTC:20250104T170000
DTSTAMP:20260425T122409
CREATED:20240918T114722Z
LAST-MODIFIED:20240918T114722Z
UID:15914-1726651800-1736010000@inappalachia.com
SUMMARY:Animation Gravity
DESCRIPTION:At Animation Gravity\, we push creative boundaries\, producing animated visuals from 2d concept videos to 3d animated product video services . As leaders in the industry\, we focus on providing custom solutions that perfectly align with your business goals. With a strong emphasis on innovation and visual storytelling\, we ensure your brand stands out in a competitive market.
URL:https://inappalachia.com/event/animation-gravity/
ATTACH;FMTTYPE=image/png:https://inappalachia.com/wp-content/uploads/2024/09/Red-Illustrated-Animation-Designer-Blog-Banner.png
END:VEVENT
BEGIN:VEVENT
DTSTART;TZID=UTC:20240916T100000
DTEND;TZID=UTC:20240916T190000
DTSTAMP:20260425T122409
CREATED:20240916T091851Z
LAST-MODIFIED:20240916T092048Z
UID:15909-1726480800-1726513200@inappalachia.com
SUMMARY:Adelaide Resume Writers
DESCRIPTION:Meet Adelaide Resume Writers\, Australia’s number 1 CV writing and LinkedIn Profile Writing Services. From Melbourne to Sydney\, Perth\, Canberra\, etc.\, they offer services all around the country. Apart from providing you with the  Write My Resume service\, they offer cover letter writing\, LinkedIn Profile editing\, and Executive resume writing services. With their 24/7 customer support\, these services are always available at your beck and call. Also\, they provide timely updates and deliveries so you can be stress-free and focus on preparing for the interview. If you want\, they can help you with that too.
URL:https://inappalachia.com/event/adelaide-resume-writers/
ATTACH;FMTTYPE=image/jpeg:https://inappalachia.com/wp-content/uploads/2024/09/Adelaide-resume-writers.jpg
END:VEVENT
BEGIN:VEVENT
DTSTART;TZID=UTC:20240909T080000
DTEND;TZID=UTC:20240909T170000
DTSTAMP:20260425T122409
CREATED:20240909T120648Z
LAST-MODIFIED:20240910T111315Z
UID:15900-1725868800-1725901200@inappalachia.com
SUMMARY:Cover Letter Writing Service – Resume Agency CA
DESCRIPTION:If you’re looking for a cover letter writing service\, consider using a professional service to enhance your job search. These services help you craft customized and impactful job applications\, including resumes and cover letters. They offer personalized support to highlight your skills\, experience\, and achievements in a way that stands out to employers. So if you are searching for a similar service hire Resume Agency CA for their amazing \, affordable and result driven services.
URL:https://inappalachia.com/event/job-application-writing-service-resume-agency-ca/
LOCATION:toronto\, 20 Lane E Bay S Elm\, Toronto\, Canada
ATTACH;FMTTYPE=image/png:https://inappalachia.com/wp-content/uploads/2024/09/Resume-Agency.png
END:VEVENT
BEGIN:VEVENT
DTSTART;TZID=UTC:20240907T080000
DTEND;TZID=UTC:20240907T170000
DTSTAMP:20260425T122409
CREATED:20240907T123120Z
LAST-MODIFIED:20240907T123120Z
UID:15896-1725696000-1725728400@inappalachia.com
SUMMARY:ghostbusters frozen empire jackets
DESCRIPTION:With the elegant and functional ghostbusters frozen empire jackets\, you can embody the Ghostbusters spirit and pay respect to the beloved film series. Place your order now
URL:https://inappalachia.com/event/ghostbusters-frozen-empire-jackets/
ATTACH;FMTTYPE=image/png:https://inappalachia.com/wp-content/uploads/2024/09/Untitled-design.png
END:VEVENT
BEGIN:VEVENT
DTSTART;TZID=UTC:20240907T080000
DTEND;TZID=UTC:20240907T170000
DTSTAMP:20260425T122409
CREATED:20240907T101326Z
LAST-MODIFIED:20240907T101326Z
UID:15893-1725696000-1725728400@inappalachia.com
SUMMARY:online MBA assignment help
DESCRIPTION:Having difficulty with your MBA homework? Our skilled writers offer personalized assistance to assist you in succeeding in your academic interests. We provide online mba assignment help	that meets time limits and surpasses expectations\, protecting everything from research to writing. Start now and attain success in your studies.
URL:https://inappalachia.com/event/online-mba-assignment-help/
LOCATION:David J. Prior Convocation Center\, 437 Stadium Drive\, Wise\, VA\, 24293\, United States
ORGANIZER;CN="Write My Essay IE":MAILTO:nadiafordee@gmail.com
END:VEVENT
BEGIN:VEVENT
DTSTART;TZID=UTC:20240906T080000
DTEND;TZID=UTC:20240906T170000
DTSTAMP:20260425T122409
CREATED:20240906T092309Z
LAST-MODIFIED:20240906T092309Z
UID:15889-1725609600-1725642000@inappalachia.com
SUMMARY:Proofreading Services Canada
DESCRIPTION:Proofreading services help Canadian businesses and society at large become more successful\, accountable\, and resilient. The growing need for precise and persuasive communication means that professional proofreading services canada  are essential for promoting advancement\, creativity\, and constructive modifications to Canadian communication methods.
URL:https://inappalachia.com/event/proofreading-services-canada/
LOCATION:toronto\, 20 Lane E Bay S Elm\, Toronto\, Canada
ATTACH;FMTTYPE=image/png:https://inappalachia.com/wp-content/uploads/2024/09/proofreading-images-2-1-1.png
END:VEVENT
BEGIN:VEVENT
DTSTART;TZID=UTC:20240826T080000
DTEND;TZID=UTC:20250712T170000
DTSTAMP:20260425T122409
CREATED:20240826T153512Z
LAST-MODIFIED:20240826T153512Z
UID:15878-1724659200-1752339600@inappalachia.com
SUMMARY:The Pelle Pelle Store
DESCRIPTION:Our company pelle pelle store  is going to be the first one to host these types of events on this bigger platform. At this event\, you can get all types of leather jackets at the most affordable and reasonable price. So\, don’t forget to join us on that day and support us.
URL:https://inappalachia.com/event/the-pelle-pelle-store/
END:VEVENT
BEGIN:VEVENT
DTSTART;TZID=UTC:20240822T080000
DTEND;TZID=UTC:20240822T170000
DTSTAMP:20260425T122409
CREATED:20240822T110244Z
LAST-MODIFIED:20240822T110244Z
UID:15872-1724313600-1724346000@inappalachia.com
SUMMARY:Jacket Festival
DESCRIPTION:We are going to be the first company that has going to be to host an event like this where you can get any type of jacket from the simplest robin varsity jacket to the most extravagant ones at the most affordable price and there is also going to be custom station from where you can give your size and them delivered on your doorstep. So\, don’t forget us join us in such a big event.
URL:https://inappalachia.com/event/jacket-festival/
LOCATION:38 Pearse St\, Dublin\, D02 DD83\, 38 Pearse St\, Dublin\, D02 DD83\, Dublin\, Leinster\, D02 DD83\, Ireland
ORGANIZER;CN="Anthony Anson":MAILTO:anthonyanson35@gmail.com
END:VEVENT
BEGIN:VEVENT
DTSTART;TZID=UTC:20240820T080000
DTEND;TZID=UTC:20240820T170000
DTSTAMP:20260425T122409
CREATED:20240820T061526Z
LAST-MODIFIED:20240820T061526Z
UID:15868-1724140800-1724173200@inappalachia.com
SUMMARY:Dissertation Conclusion Help
DESCRIPTION:Are you struggling to formulate a powerful ending for your dissertation? Our team of experienced writers assists in crafting a powerful conclusion that summarizes your research effectively and highlights your key findings. We offer personalized assistance to ensure that your results meet the highest educational standards. Let us assist you in effectively wrapping up your Dissertation Conclusion Help .
URL:https://inappalachia.com/event/dissertation-conclusion-help/
END:VEVENT
BEGIN:VEVENT
DTSTART;TZID=UTC:20240810T080000
DTEND;TZID=UTC:20241231T170000
DTSTAMP:20260425T122409
CREATED:20240810T064834Z
LAST-MODIFIED:20240810T064834Z
UID:15862-1723276800-1735664400@inappalachia.com
SUMMARY:Write My Essay Qatar
DESCRIPTION:Searching for the best quality essay writing sites that can provide their services to people in Qatar? Using our “Write My Essay Qatar” services one is guaranteed quality as well as reliability of the work in question. Highly qualified writers with several years of experience will ensure that your essays are researched and written according to the set guidelines and your needs. We cognize the scholastic norms in Qatar and guarantee that every essay tutors or surpasses the norms. Notwithstanding\, in the course of our services\, we ensure that any academic level right from the high school level to the college level can be accessed.  Homework Helpers Qatar assure you\, that we are going to deliver your essays with special accuracy\, inspiration\, and observing the timeline. Achieve stress-free academic success with our professional essay writers in Qatar at cheap prices.
URL:https://inappalachia.com/event/write-my-essay-qatar/
ATTACH;FMTTYPE=image/jpeg:https://inappalachia.com/wp-content/uploads/2024/08/fb-qatar-250.jpg
END:VEVENT
BEGIN:VEVENT
DTSTART;VALUE=DATE:20240805
DTEND;VALUE=DATE:20240806
DTSTAMP:20260425T122409
CREATED:20240805T181957Z
LAST-MODIFIED:20240805T181957Z
UID:15856-1722816000-1722902399@inappalachia.com
SUMMARY:Finance Assignment Writing Service
DESCRIPTION:The intricacies of finance can often lead to students facing a lot of pressure in terms of complex theories\, number-crunching exercises and tight timelines. FinanceAssignmentsHelp.com provides the necessary support for all those who want to excel academically in this demanding field. Our dedicated team not only comprehend financial intricacies but also have the ability to present these ideas in simpler ways that make learning easy. We adjust our assignments so they match your tone and point of view without compromising on what is expected by your institution.
URL:https://inappalachia.com/event/finance-assignment-writing-service/
ATTACH;FMTTYPE=image/png:https://inappalachia.com/wp-content/uploads/2024/08/imageedit_1_4954971808-1.png
END:VEVENT
BEGIN:VEVENT
DTSTART;VALUE=DATE:20240801
DTEND;VALUE=DATE:20240901
DTSTAMP:20260425T122409
CREATED:20240801T120645Z
LAST-MODIFIED:20240802T063004Z
UID:15846-1722470400-1725148799@inappalachia.com
SUMMARY:UK Proofreaders Services
DESCRIPTION:UK Proofreaders is aware of how crucial it is to submit work on time. Research papers are edited and returned to researchers by the deadline because   personal statement service to their effective workflow and fast turnaround times. This gives researchers confidence in the calibre and professionalism of their work by enabling them to evaluate and integrate modifications prior to article submission.
URL:https://inappalachia.com/event/uk-proofreaders-services/
LOCATION:toronto\, 20 Lane E Bay S Elm\, Toronto\, Canada
ATTACH;FMTTYPE=image/jpeg:https://inappalachia.com/wp-content/uploads/2024/08/310220268_110159795194876_8240549769532649674_n_1-1.jpg
ORGANIZER;CN="Book Printing AE":MAILTO:hanasheikh587@gmail.com
END:VEVENT
BEGIN:VEVENT
DTSTART;VALUE=DATE:20240801
DTEND;VALUE=DATE:20240802
DTSTAMP:20260425T122409
CREATED:20240801T060544Z
LAST-MODIFIED:20240801T060544Z
UID:15838-1722470400-1722556799@inappalachia.com
SUMMARY:Enamel Pins Exhibition
DESCRIPTION:Get ready to explore the fascinating world of enamel pins at our exclusive Enamel Pins Exhibition! Join us for an afternoon of artistic expression and creativity as we showcase a stunning array of custom enamel pins from talented designers and artists. From intricately detailed designs to bold and colorful statements\, this exhibition is a must-see for any pin enthusiast or art lover. Don’t miss the opportunity to discover unique and collectible pieces that celebrate this popular form of wearable art!
URL:https://inappalachia.com/event/enamel-pins-exhibition/
LOCATION:toronto\, 20 Lane E Bay S Elm\, Toronto\, Canada
ATTACH;FMTTYPE=image/png:https://inappalachia.com/wp-content/uploads/2024/08/embroideredpatchescaprofile.png
ORGANIZER;CN="Nora Benjamin":MAILTO:info@embroideredpatches.ca
END:VEVENT
BEGIN:VEVENT
DTSTART;TZID=UTC:20240730T080000
DTEND;TZID=UTC:20240730T170000
DTSTAMP:20260425T122409
CREATED:20240730T075129Z
LAST-MODIFIED:20240730T075129Z
UID:15834-1722326400-1722358800@inappalachia.com
SUMMARY:Essay Writer NZ
DESCRIPTION:We are dedicated to the students\, which is why we want to help you provide the best services possible in New Zealand. In New Zealand\, we offer the best and most reasonably priced write my essay online in Auckland services. Our work is thoroughly researched\, original\, and priced reasonably. Go to our page to find out more about what we have to offer!
URL:https://inappalachia.com/event/essay-writer-nz/
END:VEVENT
BEGIN:VEVENT
DTSTART;TZID=UTC:20240729T080000
DTEND;TZID=UTC:20240729T170000
DTSTAMP:20260425T122409
CREATED:20240729T073445Z
LAST-MODIFIED:20240729T073445Z
UID:15822-1722240000-1722272400@inappalachia.com
SUMMARY:PVC Patches London
DESCRIPTION:We are a UK-based firm that offers bespoke patches at the lowest possible price\, specifically for pvc patches. We provide inexpensive custom patches of the highest caliber\, including embroidered military patches\, label patches\, morale patches\, and more. Our aim is to offer top-notch items at affordable costs.
URL:https://inappalachia.com/event/pvc-patches-london/
END:VEVENT
BEGIN:VEVENT
DTSTART;TZID=UTC:20240728T080000
DTEND;TZID=UTC:20240731T170000
DTSTAMP:20260425T122409
CREATED:20240705T090003Z
LAST-MODIFIED:20240705T090003Z
UID:15772-1722153600-1722445200@inappalachia.com
SUMMARY:Unlock Your Academic Potential: My Assignment Help Workshop
DESCRIPTION:Join us for an interactive workshop on “My Assignment Help\,” designed to provide you with essential strategies and resources to excel in your academic assignments. Learn from experts about effective research techniques\, time management\, and writing tips tailored to your specific needs. Whether you’re struggling with essays\, research papers\, or case studies\, this event offers personalized guidance to help you achieve top grades. Don’t miss this opportunity to boost your confidence and academic performance. Register now and take the first step towards mastering your assignments!
URL:https://inappalachia.com/event/unlock-your-academic-potential-my-assignment-help-workshop/
ATTACH;FMTTYPE=image/png:https://inappalachia.com/wp-content/uploads/2024/07/logo-mak-1.png
END:VEVENT
BEGIN:VEVENT
DTSTART;TZID=UTC:20240725T080000
DTEND;TZID=UTC:20240819T170000
DTSTAMP:20260425T122409
CREATED:20240725T110645Z
LAST-MODIFIED:20240725T110645Z
UID:15806-1721894400-1724086800@inappalachia.com
SUMMARY:Embroidered Hats Designs Display
DESCRIPTION:Join us for an exclusive showcase of beautifully crafted embroidered hats UK designs at the Embroidered Hats Designs Display\, organized by Caps Company UK. Discover an array of exquisite designs featuring intricate embroidery\, vibrant colors\, and high-quality materials. Get ready to elevate your headwear game and find the perfect statement piece to express your personal style. Whether you’re a hat enthusiast or simply appreciate fine craftsmanship\, this event is not to be missed.
URL:https://inappalachia.com/event/embroidered-hats-designs-display/
LOCATION:Appalachian One Stop\, 501 Railroad Ave.\, Richlands\, VA\, 24641\, United States
ATTACH;FMTTYPE=image/png:https://inappalachia.com/wp-content/uploads/2024/07/capscompanyukprofile.png
ORGANIZER;CN="Robert Frost":MAILTO:robertfrost350188@gmail.com
END:VEVENT
BEGIN:VEVENT
DTSTART;TZID=UTC:20240725T080000
DTEND;TZID=UTC:20240725T170000
DTSTAMP:20260425T122409
CREATED:20240725T111456Z
LAST-MODIFIED:20240725T111654Z
UID:15815-1721894400-1721926800@inappalachia.com
SUMMARY:Best Essay Writing Company in UK
DESCRIPTION:The Urgent Essay Help in the UK provide students of all academic levels and disciplines with a wide selection of support. These cheap essay writing services in the UK can assist you whether you need aid with a daily assignment or are having trouble with a difficult dissertation or case study. At UrgentEssayHelp.co.uk\, our staff of devoted assignment writers and specialists is committed to provide excellent support that satisfies academic requirements and deadlines.
URL:https://inappalachia.com/event/best-essay-writing-company-in-uk/
ATTACH;FMTTYPE=image/jpeg:https://inappalachia.com/wp-content/uploads/2024/07/10-Common-Mistakes-Students-Make-While-Doing-Assignments-In-2024-2.jpg
END:VEVENT
END:VCALENDAR