BEGIN:VCALENDAR
VERSION:2.0
PRODID:-//In Appalachia - ECPv6.15.20//NONSGML v1.0//EN
CALSCALE:GREGORIAN
METHOD:PUBLISH
X-ORIGINAL-URL:https://inappalachia.com
X-WR-CALDESC:Events for In Appalachia
REFRESH-INTERVAL;VALUE=DURATION:PT1H
X-Robots-Tag:noindex
X-PUBLISHED-TTL:PT1H
BEGIN:VTIMEZONE
TZID:UTC
BEGIN:STANDARD
TZOFFSETFROM:+0000
TZOFFSETTO:+0000
TZNAME:UTC
DTSTART:20250101T000000
END:STANDARD
END:VTIMEZONE
BEGIN:VEVENT
DTSTART;VALUE=DATE:20260421
DTEND;VALUE=DATE:20260501
DTSTAMP:20260423T171103
CREATED:20260421T040446Z
LAST-MODIFIED:20260421T040446Z
UID:18548-1776729600-1777593599@inappalachia.com
SUMMARY:How to Chill Out With a Classic Browser Game: Papa's Freezeria
DESCRIPTION:There’s something oddly satisfying about serving virtual customers\, getting their orders just right\, and watching your tips stack up. papa’s freezeria is one of those games that looks simple on the surface but quietly becomes a rhythm you can’t stop chasing. You’re running an ice cream shop on a tropical island\, managing everything from blending sundaes to adding the perfect toppings — all while keeping your customers happy.\nIt’s not flashy. It doesn’t need to be. The charm is in the routine.
URL:https://inappalachia.com/event/how-to-chill-out-with-a-classic-browser-game-papas-freezeria/
LOCATION:10 St Andrew St\, City of London\, UK\, 10 St Andrew St\, London\, England\, EC4A 3AG\, United Kingdom
ATTACH;FMTTYPE=image/jpeg:https://inappalachia.com/wp-content/uploads/2026/04/hq720.jpg
ORGANIZER;CN="Anthony Anson":MAILTO:anthonyanson35@gmail.com
END:VEVENT
BEGIN:VEVENT
DTSTART;VALUE=DATE:20260423
DTEND;VALUE=DATE:20270424
DTSTAMP:20260423T171103
CREATED:20260423T161741Z
LAST-MODIFIED:20260423T161741Z
UID:18558-1776902400-1808524799@inappalachia.com
SUMMARY:Get Expert CV Writing Help UK and Stand Out
DESCRIPTION:If you want to improve your chances of landing interviews\, getting professional cv writing help uk can make all the difference. The Academic Papers provides expert CV writing support across the UK\, helping job seekers create polished and professional CVs that stand out to recruiters. Their certified writers know how to highlight your strengths\, achievements\, and experience in a way that matches employer expectations. Whether you are entering the workforce or aiming for a higher position\, their affordable and personalised services can strengthen your application. For reliable cv writing help uk\, The Academic Papers is a trusted choice for standing out in the competitive UK job market.
URL:https://inappalachia.com/event/get-expert-cv-writing-help-uk-and-stand-out/
LOCATION:Dubai
END:VEVENT
BEGIN:VEVENT
DTSTART;TZID=UTC:20260423T080000
DTEND;TZID=UTC:20260517T170000
DTSTAMP:20260423T171103
CREATED:20260423T063854Z
LAST-MODIFIED:20260423T063854Z
UID:18554-1776931200-1779037200@inappalachia.com
SUMMARY:Premium Metal Business Cards
DESCRIPTION:Discover the elegance and impact of Metal Business Cards in this exclusive showcase event. We bring you a modern printing experience where luxury meets durability. Explore custom designs\, premium finishes\, and high-quality metal card options that help your brand stand out with confidence and style. \nWhether you are a business owner\, designer\, or entrepreneur\, this event is designed to inspire you with unique branding solutions that leave a lasting impression.
URL:https://inappalachia.com/event/premium-metal-business-cards/
LOCATION:Dubai
ATTACH;FMTTYPE=image/png:https://inappalachia.com/wp-content/uploads/2026/04/logometallic-1-1.png
END:VEVENT
BEGIN:VEVENT
DTSTART;TZID=UTC:20260729T080000
DTEND;TZID=UTC:20260929T170000
DTSTAMP:20260423T171103
CREATED:20240729T115408Z
LAST-MODIFIED:20240729T115408Z
UID:15828-1785312000-1790701200@inappalachia.com
SUMMARY:Unlocking The Importance And Future Of Ebook Ghostwriting Agency
DESCRIPTION:We specialize in providing high-quality ghostwriting service\, including dissertation\, academic\, homework and ebook ghostwriting agency in London. Our experienced team of professionals is dedicated to delivering the highest quality ghostwriting solutions that meet your unique needs and exceed your expectations. With decades of experience in the industry\, you can trust us to provide you with the confidential services available.
URL:https://inappalachia.com/event/unlocking-the-importance-and-future-of-ebook-ghostwriting-agency/
LOCATION:Dubai
ATTACH;FMTTYPE=image/png:https://inappalachia.com/wp-content/uploads/2024/07/ghostwriter.png
END:VEVENT
BEGIN:VEVENT
DTSTART;VALUE=DATE:20260913
DTEND;VALUE=DATE:20260914
DTSTAMP:20260423T171103
CREATED:20240927T200714Z
LAST-MODIFIED:20240927T200714Z
UID:15958-1789257600-1789343999@inappalachia.com
SUMMARY:Get Full Financial Security with Critical Illness Coverage
DESCRIPTION:Prepare for unexpected health challenges with Critical Illness Coverage that offers full financial protection during severe health conditions. Our plans cover a wide range of illnesses\, ensuring that your recovery is financially supported. Best Insurance Offers in Canada include comprehensive illness coverage options. Our highly skilled professionals will guide you through the process to choose the right plan.
URL:https://inappalachia.com/event/get-full-financial-security-with-critical-illness-coverage/
LOCATION:Dubai
END:VEVENT
BEGIN:VEVENT
DTSTART;VALUE=DATE:20260920
DTEND;VALUE=DATE:20260922
DTSTAMP:20260423T171103
CREATED:20240927T192855Z
LAST-MODIFIED:20240927T192855Z
UID:15953-1789862400-1790035199@inappalachia.com
SUMMARY:Discover Tailored Business Lending Solutions for Your Company
DESCRIPTION:Business Lending Solutions are crafted to fit the specific needs of businesses across industries. Whether you’re a startup\, a small business\, or an established company\, our financing options can help you manage operations or fund expansion. Let’s work together to find the right financial solution for your business needs.
URL:https://inappalachia.com/event/discover-tailored-business-lending-solutions-for-your-company/
LOCATION:Dubai
ATTACH;FMTTYPE=image/jpeg:https://inappalachia.com/wp-content/uploads/2024/09/businesslendingsolutionscoverphoto-ezgif.com-webp-to-jpg-converter.jpg
END:VEVENT
BEGIN:VEVENT
DTSTART;VALUE=DATE:20260927
DTEND;VALUE=DATE:20260929
DTSTAMP:20260423T171103
CREATED:20240927T172451Z
LAST-MODIFIED:20240927T172451Z
UID:15948-1790467200-1790639999@inappalachia.com
SUMMARY:Enhance Your Home's Functionality and Beauty
DESCRIPTION:At Handy Renovations\, we believe that every home deserves to be both beautiful and functional. Our home renovation services will help you make the most out of your living space\, whether it’s a simple update or a complete remodel. Discover how we can transform your home at Home renovation services.
URL:https://inappalachia.com/event/enhance-your-homes-functionality-and-beauty/
LOCATION:Dubai
ATTACH;FMTTYPE=image/png:https://inappalachia.com/wp-content/uploads/2024/09/Handy-Reno-Gallery-Photo.png
END:VEVENT
BEGIN:VEVENT
DTSTART;TZID=UTC:20261126T080000
DTEND;TZID=UTC:20261126T170000
DTSTAMP:20260423T171103
CREATED:20251126T105249Z
LAST-MODIFIED:20251126T105505Z
UID:17404-1795680000-1795712400@inappalachia.com
SUMMARY:Top Thesis Book Printing and Binding Agency in Canada
DESCRIPTION:If you are looking for Thesis Binding Services? At bookprint.ca\, we offer the best thesis printing service. Our experienced team specializes in crafting comprehensive thesis print tailored specifically for educational activities. We understand the competition of the commerical industry and focus on essential elements such as market analysis\, financial projections\, and operational strategies. Partner with us to create a compelling business card printing that strengthen your brand for growth and success in a competitive market. Visit us for quotation.
URL:https://inappalachia.com/event/top-thesis-book-printing-and-binding-agency-in-canada/
LOCATION:United Kingdom\, 99 Church Road\, London\, England\, W90 3OA\, United Kingdom
ATTACH;FMTTYPE=image/jpeg:https://inappalachia.com/wp-content/uploads/2025/11/bookprintlogo-1.jpg
END:VEVENT
BEGIN:VEVENT
DTSTART;VALUE=DATE:20300924
DTEND;VALUE=DATE:20300925
DTSTAMP:20260423T171103
CREATED:20250924T102218Z
LAST-MODIFIED:20250924T102218Z
UID:17123-1916438400-1916524799@inappalachia.com
SUMMARY:A Guide to Kindle Direct Publishing for Authors
DESCRIPTION:Kindle Direct Publishing experts in Liverpool. We are British Book Publishers UK. Since 2012\, we have been helping authors publish their books in the UK. This event is a guide for authors who want to publish their work on Amazon. We will teach you how Kindle Direct Publishing works and how to use it. Our professional team will explain things simply and help you understand the process. We will show you how to prepare your book\, from editing to getting it online. This is for anyone who wants to share their story with the world.
URL:https://inappalachia.com/event/a-guide-to-kindle-direct-publishing-for-authors/
LOCATION:United Kingdom\, 99 Church Road\, London\, England\, W90 3OA\, United Kingdom
ATTACH;FMTTYPE=image/png:https://inappalachia.com/wp-content/uploads/2025/09/British-Book-Publishers-Logo.png
ORGANIZER;CN="British Book Publishers UK":MAILTO:immiladavis@gmail.com
END:VEVENT
END:VCALENDAR