BEGIN:VCALENDAR
VERSION:2.0
PRODID:-//In Appalachia - ECPv6.15.20//NONSGML v1.0//EN
CALSCALE:GREGORIAN
METHOD:PUBLISH
X-ORIGINAL-URL:https://inappalachia.com
X-WR-CALDESC:Events for In Appalachia
REFRESH-INTERVAL;VALUE=DURATION:PT1H
X-Robots-Tag:noindex
X-PUBLISHED-TTL:PT1H
BEGIN:VTIMEZONE
TZID:UTC
BEGIN:STANDARD
TZOFFSETFROM:+0000
TZOFFSETTO:+0000
TZNAME:UTC
DTSTART:20240101T000000
END:STANDARD
END:VTIMEZONE
BEGIN:VTIMEZONE
TZID:Asia/Dubai
BEGIN:STANDARD
TZOFFSETFROM:+0400
TZOFFSETTO:+0400
TZNAME:+04
DTSTART:20250101T000000
END:STANDARD
END:VTIMEZONE
BEGIN:VEVENT
DTSTART;VALUE=DATE:20251115
DTEND;VALUE=DATE:20261116
DTSTAMP:20260422T000218
CREATED:20251115T073811Z
LAST-MODIFIED:20251115T073811Z
UID:17343-1763164800-1794787199@inappalachia.com
SUMMARY:Empowering Students Across the United Kingdom
DESCRIPTION:Students in the United Kingdom juggle busy schedules\, academic goals\, and the pressure to stay ahead in their studies. With lectures\, part-time jobs\, and deadlines coming from every direction\, finding the right balance can feel overwhelming at times. That’s why many learners look for small boosts of support\, including trusted Help with Uni assignments when workloads peak. \nThis event brings students together to share experiences\, discuss useful study habits\, and explore practical strategies for staying organised. It’s a friendly space to connect\, learn from each other\, and build confidence for the academic journey ahead. Whether you’re just starting university or heading toward graduation\, this gathering is all about supporting your success.
URL:https://inappalachia.com/event/empowering-students-across-the-united-kingdom/
LOCATION:United Kingdom\, 99 Church Road\, London\, England\, W90 3OA\, United Kingdom
ATTACH;FMTTYPE=image/jpeg:https://inappalachia.com/wp-content/uploads/2025/11/AHUK-logo.jpg
ORGANIZER;CN="ariel wilson":MAILTO:me.arielwilson@gmail.com
END:VEVENT
BEGIN:VEVENT
DTSTART;VALUE=DATE:20260206
DTEND;VALUE=DATE:20260207
DTSTAMP:20260422T000218
CREATED:20260206T072050Z
LAST-MODIFIED:20260206T072050Z
UID:17979-1770336000-1770422399@inappalachia.com
SUMMARY:PokeRogue: Your Free\, Browser-Based Addiction to Endless Pokémon Battles!
DESCRIPTION:PokeRogue: The Roguelike Revolution in Pokémon Gaming Has Arrived! \nIntroduction:\nIf you thought you knew Pokémon\, think again! Pokerogue and Pokerogue Dex is here to redefine your understanding of Pokémon battles\, injecting them with the thrilling\, unpredictable\, and endlessly replayable elements of a roguelike. This ingenious\, browser-based adventure takes classic Pokémon mechanics and amps up the challenge\, forcing you to adapt and strategize like never before. Best of all? It’s completely free and available to play instantly in your web browser – no downloads\, no sign-ups\, just pure\, unadulterated Pokémon roguelike action! \nWhat Makes PokeRogue So Uniquely Engaging?\nPokeRogue isn’t just a game; it’s a test of skill\, strategy\, and sheer will. Here’s why it’s so captivating: \nA Relentless Gauntlet: You begin with one or more starter Pokémon and are immediately thrown into a series of 10 consecutive battles per “level.” These range from encounters with unpredictable wild Pokémon to cunning trainers\, all culminating in a powerful\, gym leader-style boss battle that will truly test your team’s mettle.\nInfinite Replayability: The core appeal of any roguelike! Thanks to procedurally generated battles and items\, every single run in PokeRogue is distinct. Expect different enemy compositions\, varied item drops\, and unique environmental factors\, ensuring that no two attempts ever feel the same.\nSurvival-Focused Strategy: Forget the convenience of easily accessible Pokémon Centers. In PokeRogue\, items for healing and capturing are scarce and precious. This forces you into critical decisions: do you use that valuable potion now\, or save it for a potentially tougher fight down the line? Every item use adds a thrilling layer of suspense.\nThe Thrill of the Hatch: Defeat those formidable boss Pokémon\, and you’ll earn valuable tickets. These tickets are your gateway to the exciting egg gacha machines\, where you can hatch rare Pokémon and teach them powerful moves\, constantly expanding your strategic options and team composition.\nZero Barriers\, Maximum Fun: The ultimate accessibility! PokeRogue is entirely free and playable directly in your web browser. No cumbersome downloads\, no lengthy installations\, just immediate access to an endlessly engaging Pokémon challenge.\nYour Battle Assistant: The Essential Pokerogue Dex\nFor trainers who seek every possible advantage\, the Pokerogue Dex is an indispensable companion. This clever browser tool connects in real-time to vast Pokémon data\, providing you with critical intelligence during battles. Instantly check weaknesses\, resistances\, and immunities for any Pokémon you encounter. This live information empowers you to make informed decisions\, optimize your attacks\, and dramatically increase your chances of surviving the relentless gauntlet. It’s like having a supercomputer Pokedex for battle! \nWhy PokeRogue Will Be Your Next Addiction\nThis fan-made masterpiece perfectly blends genres and offers incredible value: \nThe Perfect Blend: It expertly combines the endless excitement of roguelikes with the deep\, strategic combat that Pokémon fans adore.\nAlways Fresh: Thanks to its procedural generation\, each run feels incredibly new\, offering new challenges and discoveries every time.\nPlay Anywhere\, Anytime: Whether you have a few minutes for a quick attempt or hours for a marathon session\, PokeRogue adapts perfectly to your gaming needs.\nUniversal Accessibility: Playable on virtually any device with a web browser\, ensuring your next Pokémon quest is always within reach.\nWhether you’re meticulously building the ultimate team\, hunting for that elusive rare Pokémon\, or simply enjoying the dynamic\, challenging battles\, PokeRogue delivers a unique\, Pokémon-inspired journey you won’t soon forget.  \nReady to embark on your next epic adventure? Just visit Pokerogue and Pokerogue Dex and start your run today!
URL:https://inappalachia.com/event/pokerogue-your-free-browser-based-addiction-to-endless-pokemon-battles/
ATTACH;FMTTYPE=image/jpeg:https://inappalachia.com/wp-content/uploads/2026/02/PokeRogue.jpg
END:VEVENT
BEGIN:VEVENT
DTSTART;TZID=Asia/Dubai:20260209T080000
DTEND;TZID=Asia/Dubai:20260209T170000
DTSTAMP:20260422T000218
CREATED:20260209T063343Z
LAST-MODIFIED:20260209T063353Z
UID:17989-1770624000-1770656400@inappalachia.com
SUMMARY:Launch Company AE
DESCRIPTION:Launch Company AE specializes in turning entrepreneurial ambitions into fully operational UAE businesses through expert regulatory navigation. Omar’s team handles licensing\, visa processing\, and compliance requirements with precision that eliminates bureaucratic delays. The firm’s proficiency in free zone company setup gives international investors access to 100% ownership structures and significant tax advantages. Supported by 50+ dedicated professionals and a track record exceeding 5\,000 successful formations\, Launch Company AE guarantees financial coverage for any legal guidance errors throughout the establishment process.
URL:https://inappalachia.com/event/launch-company-ae/
LOCATION:Dubai\, United Arab Emirates\, Salahuddin Rd Deira\, Dubai\, Dubai\, 1835\, United Arab Emirates
ATTACH;FMTTYPE=image/png:https://inappalachia.com/wp-content/uploads/2026/02/Screenshot-2026-01-13-153643-1.png
ORGANIZER;CN="Launch Company AE":MAILTO:omark5546759@gmail.com
END:VEVENT
BEGIN:VEVENT
DTSTART;VALUE=DATE:20260219
DTEND;VALUE=DATE:20261202
DTSTAMP:20260422T000218
CREATED:20260218T112810Z
LAST-MODIFIED:20260218T113035Z
UID:18071-1771459200-1796169599@inappalachia.com
SUMMARY:Stories Without Borders: A Cross-Cultural Writing Event
DESCRIPTION:Join us for an engaging session exploring how professional ghostwriting transforms ideas into powerful\, publication-ready content across cultures and industries. This event brings together writers\, aspiring authors\, entrepreneurs\, and creatives to discuss the evolving role of ghostwriters in books\, business\, media\, and personal branding. \nDiscover how collaborative writing works\, what to expect when partnering with a ghostwriter\, and how expert support can enhance clarity\, structure\, and narrative impact. We’ll also discuss ethical considerations\, confidentiality\, and strategies for maintaining an authentic voice. \nWhether you’re developing a book\, refining a manuscript\, or seeking expert story writing services \, this session offers practical insights to help you navigate the writing and publishing journey with confidence. \nPerfect for first-time authors\, professionals\, and anyone curious about the creative and strategic value of ghostwriting.
URL:https://inappalachia.com/event/stories-without-borders-a-cross-cultural-writing-event/
LOCATION:221 W 9th St PMB 150\, Wilmington\, DE 19801\, United States\, 221 W 9th St PMB 150\, Wilmington\, DE 19801\, Wilmington\, DE\, USA\, DE\, 19801\, United States
ATTACH;FMTTYPE=image/png:https://inappalachia.com/wp-content/uploads/2026/02/ghostwritingservices-1.png
ORGANIZER;CN="GhostWriting Services US":MAILTO:info@ghostwritingservices.us.com
END:VEVENT
END:VCALENDAR