BEGIN:VCALENDAR
VERSION:2.0
PRODID:-//In Appalachia - ECPv6.15.20//NONSGML v1.0//EN
CALSCALE:GREGORIAN
METHOD:PUBLISH
X-WR-CALNAME:In Appalachia
X-ORIGINAL-URL:https://inappalachia.com
X-WR-CALDESC:Events for In Appalachia
REFRESH-INTERVAL;VALUE=DURATION:PT1H
X-Robots-Tag:noindex
X-PUBLISHED-TTL:PT1H
BEGIN:VTIMEZONE
TZID:UTC
BEGIN:STANDARD
TZOFFSETFROM:+0000
TZOFFSETTO:+0000
TZNAME:UTC
DTSTART:20240101T000000
END:STANDARD
END:VTIMEZONE
BEGIN:VEVENT
DTSTART;VALUE=DATE:20250521
DTEND;VALUE=DATE:20250522
DTSTAMP:20260422T211749
CREATED:20250521T080612Z
LAST-MODIFIED:20250521T080910Z
UID:16681-1747785600-1747871999@inappalachia.com
SUMMARY:Stylish & Durable Painted Outdoor Benches – Enhance Your Garden or Patio Seating
DESCRIPTION:Painted outdoor benches combine durability with style\, offering a functional and attractive addition to gardens\, patios\, and public spaces. Available in a range of colors and designs\, these benches enhance curb appeal while withstanding weather exposure. Wood\, metal\, and recycled materials are commonly used\, each offering unique benefits in strength and longevity. Properly sealed and maintained\, painted outdoor benches resist fading\, chipping\, and moisture damage. Whether you’re furnishing a backyard or beautifying a community park\, selecting the right finish and material ensures comfort and visual harmony. Explore options that complement your outdoor decor while meeting practical needs.
URL:https://inappalachia.com/event/stylish-durable-painted-outdoor-benches-enhance-your-garden-or-patio-seating/
LOCATION:10 St Andrew St\, City of London\, UK\, 10 St Andrew St\, London\, England\, EC4A 3AG\, United Kingdom
ATTACH;FMTTYPE=image/jpeg:https://inappalachia.com/wp-content/uploads/2025/05/Screenshot-2025-04-28-195400-1-1.jpg
END:VEVENT
END:VCALENDAR