BEGIN:VCALENDAR
VERSION:2.0
PRODID:-//In Appalachia - ECPv6.15.20//NONSGML v1.0//EN
CALSCALE:GREGORIAN
METHOD:PUBLISH
X-ORIGINAL-URL:https://inappalachia.com
X-WR-CALDESC:Events for In Appalachia
REFRESH-INTERVAL;VALUE=DURATION:PT1H
X-Robots-Tag:noindex
X-PUBLISHED-TTL:PT1H
BEGIN:VTIMEZONE
TZID:UTC
BEGIN:STANDARD
TZOFFSETFROM:+0000
TZOFFSETTO:+0000
TZNAME:UTC
DTSTART:20250101T000000
END:STANDARD
END:VTIMEZONE
BEGIN:VEVENT
DTSTART;VALUE=DATE:20260927
DTEND;VALUE=DATE:20260929
DTSTAMP:20260422T005957
CREATED:20240927T172451Z
LAST-MODIFIED:20240927T172451Z
UID:15948-1790467200-1790639999@inappalachia.com
SUMMARY:Enhance Your Home's Functionality and Beauty
DESCRIPTION:At Handy Renovations\, we believe that every home deserves to be both beautiful and functional. Our home renovation services will help you make the most out of your living space\, whether it’s a simple update or a complete remodel. Discover how we can transform your home at Home renovation services.
URL:https://inappalachia.com/event/enhance-your-homes-functionality-and-beauty/
ATTACH;FMTTYPE=image/png:https://inappalachia.com/wp-content/uploads/2024/09/Handy-Reno-Gallery-Photo.png
END:VEVENT
BEGIN:VEVENT
DTSTART;TZID=UTC:20261126T080000
DTEND;TZID=UTC:20261126T170000
DTSTAMP:20260422T005957
CREATED:20251126T105249Z
LAST-MODIFIED:20251126T105505Z
UID:17404-1795680000-1795712400@inappalachia.com
SUMMARY:Top Thesis Book Printing and Binding Agency in Canada
DESCRIPTION:If you are looking for Thesis Binding Services? At bookprint.ca\, we offer the best thesis printing service. Our experienced team specializes in crafting comprehensive thesis print tailored specifically for educational activities. We understand the competition of the commerical industry and focus on essential elements such as market analysis\, financial projections\, and operational strategies. Partner with us to create a compelling business card printing that strengthen your brand for growth and success in a competitive market. Visit us for quotation.
URL:https://inappalachia.com/event/top-thesis-book-printing-and-binding-agency-in-canada/
LOCATION:United Kingdom\, 99 Church Road\, London\, England\, W90 3OA\, United Kingdom
ATTACH;FMTTYPE=image/jpeg:https://inappalachia.com/wp-content/uploads/2025/11/bookprintlogo-1.jpg
END:VEVENT
BEGIN:VEVENT
DTSTART;VALUE=DATE:20300924
DTEND;VALUE=DATE:20300925
DTSTAMP:20260422T005957
CREATED:20250924T102218Z
LAST-MODIFIED:20250924T102218Z
UID:17123-1916438400-1916524799@inappalachia.com
SUMMARY:A Guide to Kindle Direct Publishing for Authors
DESCRIPTION:Kindle Direct Publishing experts in Liverpool. We are British Book Publishers UK. Since 2012\, we have been helping authors publish their books in the UK. This event is a guide for authors who want to publish their work on Amazon. We will teach you how Kindle Direct Publishing works and how to use it. Our professional team will explain things simply and help you understand the process. We will show you how to prepare your book\, from editing to getting it online. This is for anyone who wants to share their story with the world.
URL:https://inappalachia.com/event/a-guide-to-kindle-direct-publishing-for-authors/
LOCATION:United Kingdom\, 99 Church Road\, London\, England\, W90 3OA\, United Kingdom
ATTACH;FMTTYPE=image/png:https://inappalachia.com/wp-content/uploads/2025/09/British-Book-Publishers-Logo.png
ORGANIZER;CN="British Book Publishers UK":MAILTO:immiladavis@gmail.com
END:VEVENT
END:VCALENDAR